BEGIN:VCALENDAR
VERSION:2.0
PRODID:-//Her Well Center Inc. - ECPv6.15.20//NONSGML v1.0//EN
CALSCALE:GREGORIAN
METHOD:PUBLISH
X-WR-CALNAME:Her Well Center Inc.
X-ORIGINAL-URL:https://herwell.org
X-WR-CALDESC:Events for Her Well Center Inc.
REFRESH-INTERVAL;VALUE=DURATION:PT1H
X-Robots-Tag:noindex
X-PUBLISHED-TTL:PT1H
BEGIN:VTIMEZONE
TZID:America/Denver
BEGIN:DAYLIGHT
TZOFFSETFROM:-0700
TZOFFSETTO:-0600
TZNAME:MDT
DTSTART:20250309T090000
END:DAYLIGHT
BEGIN:STANDARD
TZOFFSETFROM:-0600
TZOFFSETTO:-0700
TZNAME:MST
DTSTART:20251102T080000
END:STANDARD
BEGIN:DAYLIGHT
TZOFFSETFROM:-0700
TZOFFSETTO:-0600
TZNAME:MDT
DTSTART:20260308T090000
END:DAYLIGHT
BEGIN:STANDARD
TZOFFSETFROM:-0600
TZOFFSETTO:-0700
TZNAME:MST
DTSTART:20261101T080000
END:STANDARD
BEGIN:DAYLIGHT
TZOFFSETFROM:-0700
TZOFFSETTO:-0600
TZNAME:MDT
DTSTART:20270314T090000
END:DAYLIGHT
BEGIN:STANDARD
TZOFFSETFROM:-0600
TZOFFSETTO:-0700
TZNAME:MST
DTSTART:20271107T080000
END:STANDARD
END:VTIMEZONE
BEGIN:VEVENT
DTSTART;TZID=America/Denver:20261029T170000
DTEND;TZID=America/Denver:20261029T210000
DTSTAMP:20260424T064819
CREATED:20250815T233841Z
LAST-MODIFIED:20251121T024055Z
UID:2503-1793293200-1793307600@herwell.org
SUMMARY:Her Well Gala 2026
DESCRIPTION:Her Well Gala 2026\nOctober 29\, 2026 | 5–9pm \n 
URL:https://herwell.org/upcoming-event/her-well-gala-2026/
LOCATION:TX
CATEGORIES:community events,fundraiser
END:VEVENT
END:VCALENDAR